BEGIN:VCALENDAR
VERSION:2.0
PRODID:-//Sophicity/Tribune/Florala, AL
BEGIN:VEVENT
DTSTAMP:20260424T160829Z
UID:f52954d8-edf2-4c83-9db2-7e3a1a3a78b0-4104
DTSTART:20260521T213000Z
DTEND:20260521T213000Z
LOCATION:Municipal Complex
CLASS:PUBLIC
SUMMARY:Friends of Lake Jackson Meeting
END:VEVENT
END:VCALENDAR
