BEGIN:VCALENDAR
VERSION:2.0
PRODID:-//Sophicity/Tribune/Florala, AL
BEGIN:VEVENT
DTSTAMP:20260424T160831Z
UID:f52954d8-edf2-4c83-9db2-7e3a1a3a78b0-4103
DTSTART:20260520T123000Z
DTEND:20260520T190000Z
LOCATION:Lake Jackson
CLASS:PUBLIC
SUMMARY:Military Water Jump
END:VEVENT
END:VCALENDAR
