BEGIN:VCALENDAR
VERSION:2.0
PRODID:-//Sophicity/Tribune/Florala, AL
BEGIN:VEVENT
DTSTAMP:20260424T224632Z
UID:f52954d8-edf2-4c83-9db2-7e3a1a3a78b0-4095
DTSTART:20251113T160000Z
DTEND:20251113T190000Z
LOCATION:24245 Fifth Avenue
CLASS:PUBLIC
SUMMARY:Florala Medical Associates, LLC Grand Opening
END:VEVENT
END:VCALENDAR
