BEGIN:VCALENDAR
VERSION:2.0
PRODID:-//Sophicity/Tribune/Florala, AL
BEGIN:VEVENT
DTSTAMP:20260425T002818Z
UID:f52954d8-edf2-4c83-9db2-7e3a1a3a78b0-4093
DTSTART:20250908T223000Z
DTEND:20250908T233000Z
LOCATION:Florala Municipal Building Auditorium
CLASS:PUBLIC
SUMMARY:City Council Meeting
END:VEVENT
END:VCALENDAR
