BEGIN:VCALENDAR
VERSION:2.0
PRODID:-//Sophicity/Tribune/Florala, AL
BEGIN:VEVENT
DTSTAMP:20260424T224628Z
UID:f52954d8-edf2-4c83-9db2-7e3a1a3a78b0-4092
DTSTART:20250826T110000Z
DTEND:20250826T110000Z
LOCATION:Rodney J. Evans Civic Center
CLASS:PUBLIC
SUMMARY:Florala Municipal Elections
END:VEVENT
END:VCALENDAR
