BEGIN:VCALENDAR
VERSION:2.0
PRODID:-//Sophicity/Tribune/Florala, AL
BEGIN:VEVENT
DTSTAMP:20260424T191534Z
UID:f52954d8-edf2-4c83-9db2-7e3a1a3a78b0-4084
DTSTART:20250628T180000Z
DTEND:20250628T180000Z
CLASS:PUBLIC
SUMMARY:June 24th Celebration Parade
END:VEVENT
END:VCALENDAR
