BEGIN:VCALENDAR
VERSION:2.0
PRODID:-//Sophicity/Tribune/Florala, AL
BEGIN:VEVENT
DTSTAMP:20260424T174331Z
UID:f52954d8-edf2-4c83-9db2-7e3a1a3a78b0-4083
DTSTART:20250605T180000Z
DTEND:20250605T180000Z
LOCATION:Rodney J. Evans Civic Center
CLASS:PUBLIC
SUMMARY:Business Appreciation
END:VEVENT
END:VCALENDAR
