BEGIN:VCALENDAR
VERSION:2.0
PRODID:-//Sophicity/Tribune/Florala, AL
BEGIN:VEVENT
DTSTAMP:20260424T161016Z
UID:f52954d8-edf2-4c83-9db2-7e3a1a3a78b0-4078
DTSTART:20250506T220000Z
DTEND:20250506T220000Z
LOCATION:Florala Municipal Complex
CLASS:PUBLIC
SUMMARY:Planning and Zoning Commission Meeting
END:VEVENT
END:VCALENDAR
