BEGIN:VCALENDAR
VERSION:2.0
PRODID:-//Sophicity/Tribune/Florala, AL
BEGIN:VEVENT
DTSTAMP:20260424T174331Z
UID:f52954d8-edf2-4c83-9db2-7e3a1a3a78b0-4074
DTSTART:20250517T160000Z
DTEND:20250517T160000Z
LOCATION:Mastar Building
CLASS:PUBLIC
SUMMARY:Bingo Healing Tools for Warriors
END:VEVENT
END:VCALENDAR
