BEGIN:VCALENDAR
VERSION:2.0
PRODID:-//Sophicity/Tribune/Florala, AL
BEGIN:VEVENT
DTSTAMP:20260424T160938Z
UID:f52954d8-edf2-4c83-9db2-7e3a1a3a78b0-4073
DTSTART:20250508T213000Z
DTEND:20250508T213000Z
LOCATION:Municipal Complex
CLASS:PUBLIC
SUMMARY:Friends of Lake Jackson
END:VEVENT
END:VCALENDAR
