BEGIN:VCALENDAR
VERSION:2.0
PRODID:-//Sophicity/Tribune/Florala, AL
BEGIN:VEVENT
DTSTAMP:20260424T160938Z
UID:f52954d8-edf2-4c83-9db2-7e3a1a3a78b0-4072
DTSTART:20250423T213000Z
DTEND:20250423T213000Z
LOCATION:Florala Municipal Complex Auditorium
CLASS:PUBLIC
SUMMARY:Florala City Council Workshop
END:VEVENT
END:VCALENDAR
