BEGIN:VCALENDAR
VERSION:2.0
PRODID:-//Sophicity/Tribune/Florala, AL
BEGIN:VEVENT
DTSTAMP:20260424T160939Z
UID:f52954d8-edf2-4c83-9db2-7e3a1a3a78b0-4065
DTSTART:20250414T223000Z
DTEND:20250414T223000Z
LOCATION:City Municipal Complex Auditorium 22975 7th Avenue Florala, AL 36442
CLASS:PUBLIC
SUMMARY:City Council Meeting
END:VEVENT
END:VCALENDAR
