BEGIN:VCALENDAR
VERSION:2.0
PRODID:-//Sophicity/Tribune/Florala, AL
BEGIN:VEVENT
DTSTAMP:20260424T161016Z
UID:f52954d8-edf2-4c83-9db2-7e3a1a3a78b0-4060
DTSTART:20250413T190000Z
DTEND:20250413T210000Z
LOCATION:Kiwanis Park
CLASS:PUBLIC
SUMMARY:Easter Celebration
END:VEVENT
END:VCALENDAR
