BEGIN:VCALENDAR
VERSION:2.0
PRODID:-//Sophicity/Tribune/Florala, AL
BEGIN:VEVENT
DTSTAMP:20260424T174331Z
UID:f52954d8-edf2-4c83-9db2-7e3a1a3a78b0-4058
DTSTART:20250313T210000Z
DTEND:20250313T210000Z
LOCATION:Anderson Farms 1475 Highway 331N - Defuniak Springs, FL
CLASS:PUBLIC
SUMMARY:9th Annual Rendezvous
END:VEVENT
END:VCALENDAR
