BEGIN:VCALENDAR
VERSION:2.0
PRODID:-//Sophicity/Tribune/Florala, AL
BEGIN:VEVENT
DTSTAMP:20260424T191626Z
UID:f52954d8-edf2-4c83-9db2-7e3a1a3a78b0-4055
DTSTART:20250315T150000Z
DTEND:20250316T160000Z
CLASS:PUBLIC
SUMMARY:Alabama Nationals Boat Races
END:VEVENT
END:VCALENDAR
