BEGIN:VCALENDAR
VERSION:2.0
PRODID:-//Sophicity/Tribune/Florala, AL
BEGIN:VEVENT
DTSTAMP:20260424T191534Z
UID:f52954d8-edf2-4c83-9db2-7e3a1a3a78b0-4050
DTSTART:20250208T231500Z
DTEND:20250208T231500Z
LOCATION:Rodney J. Evans Civic Center
CLASS:PUBLIC
SUMMARY:Black History Gala
END:VEVENT
END:VCALENDAR
