BEGIN:VCALENDAR
VERSION:2.0
PRODID:-//Sophicity/Tribune/Florala, AL
BEGIN:VEVENT
DTSTAMP:20260424T205148Z
UID:f52954d8-edf2-4c83-9db2-7e3a1a3a78b0-4047
DTSTART:20250121T160000Z
DTEND:20250121T160000Z
LOCATION:RJECC
CLASS:PUBLIC
SUMMARY:Industrial Announcement
END:VEVENT
END:VCALENDAR
