BEGIN:VCALENDAR
VERSION:2.0
PRODID:-//Sophicity/Tribune/Florala, AL
BEGIN:VEVENT
DTSTAMP:20260424T191636Z
UID:f52954d8-edf2-4c83-9db2-7e3a1a3a78b0-4039
DTSTART:20250210T233000Z
DTEND:20250211T003000Z
LOCATION:Municipal Complex Auditorium
CLASS:PUBLIC
SUMMARY:Florala City Council Meeting
END:VEVENT
END:VCALENDAR
