BEGIN:VCALENDAR
VERSION:2.0
PRODID:-//Sophicity/Tribune/Florala, AL
BEGIN:VEVENT
DTSTAMP:20260424T205149Z
UID:f52954d8-edf2-4c83-9db2-7e3a1a3a78b0-4035
DTSTART:20250101T150000Z
DTEND:20250101T150000Z
LOCATION:Lake Jackson
CLASS:PUBLIC
SUMMARY:Penguin Plunge
END:VEVENT
END:VCALENDAR
