BEGIN:VCALENDAR
VERSION:2.0
PRODID:-//Sophicity/Tribune/Florala, AL
BEGIN:VEVENT
DTSTAMP:20260424T224624Z
UID:f52954d8-edf2-4c83-9db2-7e3a1a3a78b0-4033
DTSTART:20241207T130000Z
DTEND:20241207T160000Z
LOCATION:Mastar Building
CLASS:PUBLIC
SUMMARY:Pancakes with Santa 
END:VEVENT
END:VCALENDAR
