BEGIN:VCALENDAR
VERSION:2.0
PRODID:-//Sophicity/Tribune/Florala, AL
BEGIN:VEVENT
DTSTAMP:20260425T002712Z
UID:f52954d8-edf2-4c83-9db2-7e3a1a3a78b0-4028
DTSTART:20241029T210000Z
DTEND:20241029T210000Z
LOCATION:Florala Municipal Complex
CLASS:PUBLIC
SUMMARY:Special Called City Council Meeting
END:VEVENT
END:VCALENDAR
