BEGIN:VCALENDAR
VERSION:2.0
PRODID:-//Sophicity/Tribune/Florala, AL
BEGIN:VEVENT
DTSTAMP:20260425T002830Z
UID:f52954d8-edf2-4c83-9db2-7e3a1a3a78b0-4023
DTSTART:20241104T223000Z
DTEND:20241105T003000Z
LOCATION:Florala Municipal Complex
CLASS:PUBLIC
SUMMARY:LEAD Florala Meeting
END:VEVENT
END:VCALENDAR
