BEGIN:VCALENDAR
VERSION:2.0
PRODID:-//Sophicity/Tribune/Florala, AL
BEGIN:VEVENT
DTSTAMP:20260424T224646Z
UID:f52954d8-edf2-4c83-9db2-7e3a1a3a78b0-4016
DTSTART:20241207T140000Z
DTEND:20241207T140000Z
LOCATION:Downtown Florala
CLASS:PUBLIC
SUMMARY:Shop the Blocks
END:VEVENT
END:VCALENDAR
