BEGIN:VCALENDAR
VERSION:2.0
PRODID:-//Sophicity/Tribune/Florala, AL
BEGIN:VEVENT
DTSTAMP:20260425T002743Z
UID:f52954d8-edf2-4c83-9db2-7e3a1a3a78b0-4015
DTSTART:20241031T220000Z
DTEND:20241031T220000Z
LOCATION:Downtown Florala
CLASS:PUBLIC
SUMMARY:Halloween Town
END:VEVENT
END:VCALENDAR
