BEGIN:VCALENDAR
VERSION:2.0
PRODID:-//Sophicity/Tribune/Florala, AL
BEGIN:VEVENT
DTSTAMP:20260425T015613Z
UID:f52954d8-edf2-4c83-9db2-7e3a1a3a78b0-4011
DTSTART:20240923T220000Z
DTEND:20240923T220000Z
LOCATION:Municipal Complex
CLASS:PUBLIC
SUMMARY:Comprehensive Plan Meeting
END:VEVENT
END:VCALENDAR
