BEGIN:VCALENDAR
VERSION:2.0
PRODID:-//Sophicity/Tribune/Florala, AL
BEGIN:VEVENT
DTSTAMP:20260425T015557Z
UID:f52954d8-edf2-4c83-9db2-7e3a1a3a78b0-4005
DTSTART:20240918T210000Z
DTEND:20240918T210000Z
LOCATION:Rodney J. Evans Civic Center
CLASS:PUBLIC
SUMMARY:Covington County Youth Leadership 
END:VEVENT
END:VCALENDAR
