BEGIN:VCALENDAR
VERSION:2.0
PRODID:-//Sophicity/Tribune/Florala, AL
BEGIN:VEVENT
DTSTAMP:20260425T015451Z
UID:f52954d8-edf2-4c83-9db2-7e3a1a3a78b0-4002
DTSTART:20240912T210000Z
DTEND:20240912T210000Z
LOCATION:Lake Jackson
CLASS:PUBLIC
SUMMARY:FHS Homecoming Tailgate Party
END:VEVENT
END:VCALENDAR
