BEGIN:VCALENDAR
VERSION:2.0
PRODID:-//Sophicity/Tribune/Florala, AL
BEGIN:VEVENT
DTSTAMP:20260424T224747Z
UID:f52954d8-edf2-4c83-9db2-7e3a1a3a78b0-4001
DTSTART:20241214T130000Z
DTEND:20241214T220000Z
CLASS:PUBLIC
SUMMARY:Christmas Parade (Alternate)
END:VEVENT
END:VCALENDAR
