BEGIN:VCALENDAR
VERSION:2.0
PRODID:-//Sophicity/Tribune/Florala, AL
BEGIN:VEVENT
DTSTAMP:20260424T224753Z
UID:f52954d8-edf2-4c83-9db2-7e3a1a3a78b0-3996
DTSTART:20240804T190000Z
DTEND:20240804T210000Z
LOCATION:Kiwanis Park
CLASS:PUBLIC
SUMMARY:Community Back to School Bash
END:VEVENT
END:VCALENDAR
