BEGIN:VCALENDAR
VERSION:2.0
PRODID:-//Sophicity/Tribune/Florala, AL
BEGIN:VEVENT
DTSTAMP:20260424T224747Z
UID:f52954d8-edf2-4c83-9db2-7e3a1a3a78b0-3994
DTSTART:20241209T230000Z
DTEND:20241209T230000Z
LOCATION:Municipal Complex Auditorium
CLASS:PUBLIC
SUMMARY:Florala City Council Meeting
END:VEVENT
END:VCALENDAR
