BEGIN:VCALENDAR
VERSION:2.0
PRODID:-//Sophicity/Tribune/Florala, AL
BEGIN:VEVENT
DTSTAMP:20260424T205158Z
UID:f52954d8-edf2-4c83-9db2-7e3a1a3a78b0-3933
DTSTART:20240629T120000Z
DTEND:20240629T170000Z
CLASS:PUBLIC
SUMMARY:Car Show
END:VEVENT
END:VCALENDAR
