BEGIN:VCALENDAR
VERSION:2.0
PRODID:-//Sophicity/Tribune/Florala, AL
BEGIN:VEVENT
DTSTAMP:20260424T210147Z
UID:f52954d8-edf2-4c83-9db2-7e3a1a3a78b0-3931
DTSTART:20240628T210000Z
DTEND:20240628T210000Z
LOCATION:Sass & Grit/2 Gals & a Goat
CLASS:PUBLIC
SUMMARY:Sidewalk Chalk Contest
END:VEVENT
END:VCALENDAR
