BEGIN:VCALENDAR
VERSION:2.0
PRODID:-//Sophicity/Tribune/Florala, AL
BEGIN:VEVENT
DTSTAMP:20260424T210002Z
UID:f52954d8-edf2-4c83-9db2-7e3a1a3a78b0-3930
DTSTART:20240628T223000Z
DTEND:20240628T223000Z
CLASS:PUBLIC
SUMMARY:Crowning of Masonic King and Queen/Masonic Banquet 
END:VEVENT
END:VCALENDAR
