BEGIN:VCALENDAR
VERSION:2.0
PRODID:-//Sophicity/Tribune/Florala, AL
BEGIN:VEVENT
DTSTAMP:20260424T205320Z
UID:f52954d8-edf2-4c83-9db2-7e3a1a3a78b0-3928
DTSTART:20240626T210000Z
DTEND:20240627T003000Z
CLASS:PUBLIC
SUMMARY:Spaghetti Supper and Silent Auction
END:VEVENT
END:VCALENDAR
