BEGIN:VCALENDAR
VERSION:2.0
PRODID:-//Sophicity/Tribune/Florala, AL
BEGIN:VEVENT
DTSTAMP:20260424T210227Z
UID:f52954d8-edf2-4c83-9db2-7e3a1a3a78b0-3927
DTSTART:20240624T213000Z
DTEND:20240624T213000Z
LOCATION:RJECC Ampitheater
CLASS:PUBLIC
SUMMARY:Anything Goes Children's Parade and Children's Water Battle
END:VEVENT
END:VCALENDAR
