BEGIN:VCALENDAR
VERSION:2.0
PRODID:-//Sophicity/Tribune/Florala, AL
BEGIN:VEVENT
DTSTAMP:20260424T210304Z
UID:f52954d8-edf2-4c83-9db2-7e3a1a3a78b0-3925
DTSTART:20240615T180000Z
DTEND:20240615T180000Z
CLASS:PUBLIC
SUMMARY:Miss 24th of June Pageant 
END:VEVENT
END:VCALENDAR
