BEGIN:VCALENDAR
VERSION:2.0
PRODID:-//Sophicity/Tribune/Florala, AL
BEGIN:VEVENT
DTSTAMP:20260424T174343Z
UID:f52954d8-edf2-4c83-9db2-7e3a1a3a78b0-3922
DTSTART:20240425T213000Z
DTEND:20240425T223000Z
LOCATION:Rodney J. Evans Civic Center
CLASS:PUBLIC
SUMMARY:Leadership Comprehensive Meeting
END:VEVENT
END:VCALENDAR
