BEGIN:VCALENDAR
VERSION:2.0
PRODID:-//Sophicity/Tribune/Florala, AL
BEGIN:VEVENT
DTSTAMP:20260424T205423Z
UID:f52954d8-edf2-4c83-9db2-7e3a1a3a78b0-3918
DTSTART:20240628T120000Z
DTEND:20240628T210000Z
CLASS:PUBLIC
SUMMARY:Florala City Buildings CLOSED
END:VEVENT
END:VCALENDAR
