BEGIN:VCALENDAR
VERSION:2.0
PRODID:-//Sophicity/Tribune/Florala, AL
BEGIN:VEVENT
DTSTAMP:20260424T191626Z
UID:f52954d8-edf2-4c83-9db2-7e3a1a3a78b0-3908
DTSTART:20240511T140000Z
DTEND:20240512T020000Z
CLASS:PUBLIC
SUMMARY:Tri-City Chamber of Commerce "Rock the Block!"
END:VEVENT
END:VCALENDAR
