BEGIN:VCALENDAR
VERSION:2.0
PRODID:-//Sophicity/Tribune/Florala, AL
BEGIN:VEVENT
DTSTAMP:20260424T174343Z
UID:f52954d8-edf2-4c83-9db2-7e3a1a3a78b0-3903
DTSTART:20240416T110000Z
DTEND:20240416T230000Z
CLASS:PUBLIC
SUMMARY:Run-Off Election
END:VEVENT
END:VCALENDAR
