BEGIN:VCALENDAR
VERSION:2.0
PRODID:-//Sophicity/Tribune/Florala, AL
BEGIN:VEVENT
DTSTAMP:20260424T191450Z
UID:f52954d8-edf2-4c83-9db2-7e3a1a3a78b0-3902
DTSTART:20240411T213000Z
DTEND:20240411T223000Z
CLASS:PUBLIC
SUMMARY:Leadership Comprehensive Meeting - RJECC
END:VEVENT
END:VCALENDAR
