BEGIN:VCALENDAR
VERSION:2.0
PRODID:-//Sophicity/Tribune/Florala, AL
BEGIN:VEVENT
DTSTAMP:20260424T191647Z
UID:f52954d8-edf2-4c83-9db2-7e3a1a3a78b0-3900
DTSTART:20240325T040000Z
DTEND:20240330T035900Z
CLASS:PUBLIC
SUMMARY:Covington County School(s) Spring Break
END:VEVENT
END:VCALENDAR
