BEGIN:VCALENDAR
VERSION:2.0
PRODID:-//Sophicity/Tribune/Florala, AL
BEGIN:VEVENT
DTSTAMP:20260424T191647Z
UID:f52954d8-edf2-4c83-9db2-7e3a1a3a78b0-3898
DTSTART:20240305T130000Z
DTEND:20240305T220000Z
CLASS:PUBLIC
SUMMARY:Election
END:VEVENT
END:VCALENDAR
