BEGIN:VCALENDAR
VERSION:2.0
PRODID:-//Sophicity/Tribune/Florala, AL
BEGIN:VEVENT
DTSTAMP:20260424T191532Z
UID:f52954d8-edf2-4c83-9db2-7e3a1a3a78b0-3897
DTSTART:20240229T223000Z
DTEND:20240229T233000Z
CLASS:PUBLIC
SUMMARY:Leadership / Comprehensive Plan Meeting @ RJECC
END:VEVENT
END:VCALENDAR
