BEGIN:VCALENDAR
VERSION:2.0
PRODID:-//Sophicity/Tribune/Florala, AL
BEGIN:VEVENT
DTSTAMP:20260424T205158Z
UID:f52954d8-edf2-4c83-9db2-7e3a1a3a78b0-3891
DTSTART:20240129T230000Z
DTEND:20240129T230000Z
CLASS:PUBLIC
SUMMARY:Special Called City Council Meeting
END:VEVENT
END:VCALENDAR
