BEGIN:VCALENDAR
VERSION:2.0
PRODID:-//Sophicity/Tribune/Florala, AL
BEGIN:VEVENT
DTSTAMP:20260424T205423Z
UID:f52954d8-edf2-4c83-9db2-7e3a1a3a78b0-3890
DTSTART:20240207T130000Z
DTEND:20240207T220000Z
LOCATION:Montgomery, Alabama
CLASS:PUBLIC
SUMMARY:ALM Advocacy Day
END:VEVENT
END:VCALENDAR
