BEGIN:VCALENDAR
VERSION:2.0
PRODID:-//Sophicity/Tribune/Florala, AL
BEGIN:VEVENT
DTSTAMP:20260424T224752Z
UID:f52954d8-edf2-4c83-9db2-7e3a1a3a78b0-3888
DTSTART:20240113T180000Z
DTEND:20240113T200000Z
LOCATION:Airport
CLASS:PUBLIC
SUMMARY:Florala Fire Department LZ Training
END:VEVENT
END:VCALENDAR
