BEGIN:VCALENDAR
VERSION:2.0
PRODID:-//Sophicity/Tribune/Florala, AL
BEGIN:VEVENT
DTSTAMP:20260424T224645Z
UID:f52954d8-edf2-4c83-9db2-7e3a1a3a78b0-3884
DTSTART:20240115T130000Z
DTEND:20240115T220000Z
LOCATION:City Hall
CLASS:PUBLIC
SUMMARY:Florala City Offices Closed
END:VEVENT
END:VCALENDAR
