BEGIN:VCALENDAR
VERSION:2.0
PRODID:-//Sophicity/Tribune/Florala, AL
BEGIN:VEVENT
DTSTAMP:20260424T224628Z
UID:f52954d8-edf2-4c83-9db2-7e3a1a3a78b0-3883
DTSTART:20240113T150000Z
DTEND:20240113T170000Z
LOCATION:Carver Community Center
CLASS:PUBLIC
SUMMARY:Carver Community Center Community Meeting
END:VEVENT
END:VCALENDAR
