BEGIN:VCALENDAR
VERSION:2.0
PRODID:-//Sophicity/Tribune/Florala, AL
BEGIN:VEVENT
DTSTAMP:20260424T224646Z
UID:f52954d8-edf2-4c83-9db2-7e3a1a3a78b0-3882
DTSTART:20240109T233000Z
DTEND:20240110T003000Z
LOCATION:Florala Public Library Community Room
CLASS:PUBLIC
SUMMARY:Airport Authority Meeting
END:VEVENT
END:VCALENDAR
